BEGIN:VCALENDAR
VERSION:2.0
PRODID:-//eventon.com NONSGML v1.0//EN
CALSCALE:GREGORIAN
METHOD:PUBLISH
BEGIN:VEVENT
UID:69e5ed73e1d81
DTSTAMP:20260420T091011Z
DTSTART:20230604T020000Z
DTEND:20230604T050000Z
LOCATION:
SUMMARY:Phaaze 2
DESCRIPTION:\nhttps://www.kingscardclub.com/events/phaaze-2/
URL:https://www.kingscardclub.com/events/phaaze-2/
END:VEVENT
END:VCALENDAR