BEGIN:VCALENDAR
VERSION:2.0
PRODID:-//eventon.com NONSGML v1.0//EN
CALSCALE:GREGORIAN
METHOD:PUBLISH
BEGIN:VEVENT
UID:69e73d651dd6c
DTSTAMP:20260421T090333Z
DTSTART:20230625T020000Z
DTEND:20230625T050000Z
LOCATION:
SUMMARY:Nat Bolden And The State of Mind Band
DESCRIPTION:\nhttps://www.kingscardclub.com/events/nat-bolden-and-the-state
 -of-mind-band-2/
URL:https://www.kingscardclub.com/events/nat-bolden-and-the-state-of-mind-band-2/
END:VEVENT
END:VCALENDAR