BEGIN:VCALENDAR
VERSION:2.0
PRODID:-//eventon.com NONSGML v1.0//EN
CALSCALE:GREGORIAN
METHOD:PUBLISH
BEGIN:VEVENT
UID:69e5ec996acd1
DTSTAMP:20260420T090633Z
DTSTART:20230708T020000Z
DTEND:20230708T050000Z
LOCATION:
SUMMARY:The David Perez Band
DESCRIPTION:\nhttps://www.kingscardclub.com/events/the-david-perez-band/
URL:https://www.kingscardclub.com/events/the-david-perez-band/
END:VEVENT
END:VCALENDAR