BEGIN:VCALENDAR
VERSION:2.0
PRODID:-//eventon.com NONSGML v1.0//EN
CALSCALE:GREGORIAN
METHOD:PUBLISH
BEGIN:VEVENT
UID:69e8924bcdc93
DTSTAMP:20260422T091803Z
DTSTART:20231007T230000Z
DTEND:20231008T050000Z
LOCATION:
SUMMARY:KingsFest
DESCRIPTION:\nhttps://www.kingscardclub.com/events/kingsfest/
URL:https://www.kingscardclub.com/events/kingsfest/
END:VEVENT
END:VCALENDAR