BEGIN:VCALENDAR
VERSION:2.0
PRODID:-//eventon.com NONSGML v1.0//EN
CALSCALE:GREGORIAN
METHOD:PUBLISH
BEGIN:VEVENT
UID:69e5ee1cbf65b
DTSTAMP:20260420T091300Z
DTSTART:20230902T020000Z
DTEND:20230902T050000Z
LOCATION:
SUMMARY:Marquis Motown Plus Show
DESCRIPTION:\nhttps://www.kingscardclub.com/events/marquis-motown-plus-show
 -5/
URL:https://www.kingscardclub.com/events/marquis-motown-plus-show-5/
END:VEVENT
END:VCALENDAR