BEGIN:VCALENDAR
VERSION:2.0
PRODID:-//eventon.com NONSGML v1.0//EN
CALSCALE:GREGORIAN
METHOD:PUBLISH
BEGIN:VEVENT
UID:69e73d6f3236e
DTSTAMP:20260421T090343Z
DTSTART:20241020T020000Z
DTEND:20241020T050000Z
LOCATION:
SUMMARY:Neon Radio
DESCRIPTION:Join us on the patio for live music entertainment by Neon Radio
 \,  an 80&#8217;s cover band playing all your favorite hits from the best d
 ecade of music! Reservations are recommended\,  entertainment tickets requi
 red!\nhttps://www.kingscardclub.com/events/neon-radio/
URL:https://www.kingscardclub.com/events/neon-radio/
END:VEVENT
END:VCALENDAR