BEGIN:VCALENDAR
VERSION:2.0
PRODID:-//eventon.com NONSGML v1.0//EN
CALSCALE:GREGORIAN
METHOD:PUBLISH
BEGIN:VEVENT
UID:69e73b747ebbf
DTSTAMP:20260421T085516Z
DTSTART:20241102T020000Z
DTEND:20241102T050000Z
LOCATION:
SUMMARY:The Kool Shifters Band
DESCRIPTION:Join us on the patio Friday night for a live performance by the
  Kool Shifters Band (7 piece horn band). Dance hits across the decades! Ent
 ertainment Tickets are required to enter the patio 7pm-10pm and can be purc
 hased at the host stand.\nhttps://www.kingscardclub.com/events/the-kool-shi
 fters-band/
URL:https://www.kingscardclub.com/events/the-kool-shifters-band/
END:VEVENT
END:VCALENDAR