BEGIN:VCALENDAR
VERSION:2.0
PRODID:-//eventon.com NONSGML v1.0//EN
CALSCALE:GREGORIAN
METHOD:PUBLISH
BEGIN:VEVENT
UID:69e73dbb4fe95
DTSTAMP:20260421T090459Z
DTSTART:20250810T210000Z
DTEND:20250811T000000Z
LOCATION:
SUMMARY:Marquis Motown Plus Sunday
DESCRIPTION:Join us on the patio Sunday afternoon for a live performance by
  Marquis Motown Plus! Marquis Motown Plus Show began August 1\,  2019 with 
 a sold out Dinner Show at Grace Vineyards in Galt. The members Marquis Harr
 is\,  Kim Kearney\,  Andrea Felton\,  Mike Jones &amp; Christina Valtierra 
 perform Motown hits\, [..]\nhttps://www.kingscardclub.com/events/marquis-mo
 town-plus-sunday-2/
URL:https://www.kingscardclub.com/events/marquis-motown-plus-sunday-2/
END:VEVENT
END:VCALENDAR