BEGIN:VCALENDAR
VERSION:2.0
PRODID:-//eventon.com NONSGML v1.0//EN
CALSCALE:GREGORIAN
METHOD:PUBLISH
BEGIN:VEVENT
UID:69e5ee77c7f51
DTSTAMP:20260420T091431Z
DTSTART:20250317T120000Z
DTEND:20250317T160000Z
LOCATION:
SUMMARY:St. Patrick's Day Patio Party!
DESCRIPTION:Party with us this St. Patty&#8217;s Day! Enjoy live music by T
 he Soul Trust Band along with Food and Drink Specials!\nhttps://www.kingsca
 rdclub.com/events/st-patricks-day-patio-party/
URL:https://www.kingscardclub.com/events/st-patricks-day-patio-party/
END:VEVENT
END:VCALENDAR