BEGIN:VCALENDAR
VERSION:2.0
PRODID:-//eventon.com NONSGML v1.0//EN
CALSCALE:GREGORIAN
METHOD:PUBLISH
BEGIN:VEVENT
UID:69e9e3604612c
DTSTAMP:20260423T091616Z
DTSTART:20250816T010000Z
DTEND:20250816T040000Z
LOCATION:
SUMMARY:Kings Classics Night - Car Show
DESCRIPTION:Join us for Kings Classics Night on Friday\,  August 15th from 
 6PM to 9PM at Kings Card Club in Stockton! In collaboration with the Oldies
  Car Club\,  this 21+ event is a celebration of timeless cars\,  good vibes
 \,  and great company. Enjoy free entry\,  stroll through a lineup of stunn
 ing[..]\nhttps://www.kingscardclub.com/events/kings-classics-night-car-show
 /
URL:https://www.kingscardclub.com/events/kings-classics-night-car-show/
END:VEVENT
END:VCALENDAR